BEGIN:VCALENDAR
VERSION:2.0
PRODID:-//ChamberMaster//Event Calendar 2.0//EN
METHOD:PUBLISH
X-PUBLISHED-TTL:P3D
REFRESH-INTERVAL:P3D
CALSCALE:GREGORIAN
BEGIN:VEVENT
DTSTART:20180222T230000Z
DTEND:20180223T010000Z
X-MICROSOFT-CDO-ALLDAYEVENT:FALSE
SUMMARY:February Business After Hours
DESCRIPTION:Business After Hours gives you a chance to WIN prizes from DoubleTree by Hilton-Jackson as they provide 2 night stay giveaways at 4 sister hotel properties: \n\n			\n			Doubletree Memphis\n\n			DoubleTree by Hilton Decatur Riverfront\n\n			DoubleTree Murfreesboro\n\n			Hilton\, Orlando/ Altomonte Springs\n			\n\n			 \n\n			\n			Make contacts - Network - Enjoy hors d'oeuvres - Free to attend - no advance registration
X-ALT-DESC;FMTTYPE=text/html:<table border="0" cellpadding="5" cellspacing="0" class="mceItemTable" id="textEdit" width="100%">\n	<tbody>\n		<tr>\n			<td align="center" class="MainText" data-gcf-font-size="12pt" style="color: rgb(8\, 54\, 67)\;" width="100%">\n			<div class="Title" data-gcf-font-size="18pt" style="color: rgb(0\, 48\, 86)\;"><span style="font-family: &quot\;Trebuchet MS&quot\;\, Verdana\, Helvetica\, sans-serif\; font-size: 12px\;"><span style="font-family:arial\;">Business After Hours gives you a chance to&nbsp\;</span></span><span style="font-family: arial\; font-size: 12px\;"><span _mce_style="color: #799900\;" style="color: rgb(121\, 153\, 0)\;"><strong>WIN</strong></span>&nbsp\;prizes&nbsp\;from DoubleTree by Hilton-Jackson</span><font face="Trebuchet MS\, Verdana\, Helvetica\, sans-serif" size="4">&nbsp\;</font><span style="font-family: &quot\;Trebuchet MS&quot\;\, Verdana\, Helvetica\, sans-serif\; font-size: 12px\;"><span style="font-family:arial\;">as they provide&nbsp\;<span _mce_style="font-size: 14pt\; color: #799900\;" style="color: rgb(121\, 153\, 0)\;"><strong>2 night stay&nbsp\;</strong></span><span _mce_style="font-size: 14pt\;"><span _mce_style="color: #799900\;" style="color: rgb(121\, 153\, 0)\;"><strong>giveaways</strong></span>&nbsp\;at</span><span _mce_style="font-size: 14pt\;">&nbsp\;4&nbsp\;</span><span _mce_style="font-size: 14pt\;">sister hotel properties</span><span _mce_style="font-size: 14pt\;">:&nbsp\;</span></span></span></div>\n\n			<div class="Title" data-gcf-font-size="18pt" style="font-family: &quot\;Trebuchet MS&quot\;\, Verdana\, Helvetica\, sans-serif\; font-size: 18pt\; color: rgb(0\, 48\, 86)\;">\n			<div style="font-size: 14pt\; color: rgb(121\, 153\, 0)\;"><span style="color:#003056\;"><strong><span style="font-size:12px\;"><span style="font-family:arial\;">Doubletree Memphis</span></span></strong></span></div>\n\n			<div style="font-size: 14pt\; color: rgb(121\, 153\, 0)\;"><span style="color:#003056\;"><strong><span style="font-size:12px\;"><span style="font-family:arial\;">DoubleTree by Hilton Decatur Riverfront</span></span></strong></span></div>\n\n			<div style="font-size: 14pt\; color: rgb(121\, 153\, 0)\;"><span style="color:#003056\;"><strong><span style="font-size:12px\;"><span style="font-family:arial\;">DoubleTree Murfreesboro</span></span></strong></span></div>\n\n			<div style="font-size: 14pt\; color: rgb(121\, 153\, 0)\;"><span style="color:#003056\;"><strong><span style="font-size:12px\;"><span style="font-family:arial\;">Hilton\, Orlando/ Altomonte Springs</span></span></strong></span></div>\n			</div>\n\n			<div class="Title" data-gcf-font-size="18pt" style="font-family: &quot\;Trebuchet MS&quot\;\, Verdana\, Helvetica\, sans-serif\; font-size: 18pt\; color: rgb(0\, 48\, 86)\;">&nbsp\;</div>\n\n			<div class="Title" data-gcf-font-size="18pt" style="font-family: &quot\;Trebuchet MS&quot\;\, Verdana\, Helvetica\, sans-serif\; font-size: 10pt\; color: rgb(0\, 48\, 86)\;">\n			<div _mce_style="color: #003056\; font-size: 10pt\;" style="font-size: 10pt\;"><span style="color:#799900\;"><span style="font-family:arial\;">Make contacts - Network - Enjoy&nbsp\;hors d&#39\;oeuvres - Free to attend - no advance registration</span></span></div>\n\n			<div>&nbsp\;</div>\n			</div>\n			</td>\n		</tr>\n	</tbody>\n</table>\n
LOCATION:DoubleTree by Hilton-Jackson 1770 US-45 Bypass Jackson\, TN 38305
UID:e.2827.5660
SEQUENCE:3
DTSTAMP:20260423T185356Z
URL:https://member.jacksontn.com/events/details/february-business-after-hours-5660
END:VEVENT

END:VCALENDAR
