BEGIN:VCALENDAR
VERSION:2.0
PRODID:-//ChamberMaster//Event Calendar 2.0//EN
METHOD:PUBLISH
X-PUBLISHED-TTL:P3D
REFRESH-INTERVAL:P3D
CALSCALE:GREGORIAN
BEGIN:VEVENT
DTSTART:20050830T050000Z
DTEND:20050830T050000Z
X-MICROSOFT-CDO-ALLDAYEVENT:FALSE
SUMMARY:Faculty in Factory Dinner 2005
DESCRIPTION:Faculty in Factory Dinner 2005
X-ALT-DESC;FMTTYPE=text/html:Faculty in Factory Dinner 2005
LOCATION:The Chamber Board Room
UID:e.2827.2022
SEQUENCE:3
DTSTAMP:20260422T010055Z
URL:https://member.jacksontn.com/events/details/faculty-in-factory-dinner-2005-08-30-2005-2022
END:VEVENT

END:VCALENDAR
