BEGIN:VCALENDAR
VERSION:2.0
PRODID:-//ChamberMaster//Event Calendar 2.0//EN
METHOD:PUBLISH
X-PUBLISHED-TTL:P3D
REFRESH-INTERVAL:P3D
CALSCALE:GREGORIAN
BEGIN:VEVENT
DTSTART:20040923T230000Z
DTEND:20040924T010000Z
X-MICROSOFT-CDO-ALLDAYEVENT:FALSE
SUMMARY:Faculty in Factory Dinner 2004
DESCRIPTION:
X-ALT-DESC;FMTTYPE=text/html:
LOCATION:The Chamber Board Room
UID:e.2827.1724
SEQUENCE:3
DTSTAMP:20260422T150908Z
URL:https://member.jacksontn.com/events/details/faculty-in-factory-dinner-2004-09-23-2004-1724
END:VEVENT

END:VCALENDAR
