BEGIN:VCALENDAR
VERSION:2.0
PRODID:-//ChamberMaster//Event Calendar 2.0//EN
METHOD:PUBLISH
X-PUBLISHED-TTL:P3D
REFRESH-INTERVAL:P3D
CALSCALE:GREGORIAN
BEGIN:VEVENT
DTSTART;VALUE=DATE:20020902
DTEND;VALUE=DATE:20020903
TRANSP:TRANSPARENT
X-MICROSOFT-CDO-ALLDAYEVENT:TRUE
SUMMARY:Faculty in Factory Dinner 2002
DESCRIPTION:
X-ALT-DESC;FMTTYPE=text/html:
LOCATION:Jackson Country Club
UID:e.2827.1723
SEQUENCE:3
DTSTAMP:20260423T235929Z
URL:https://member.jacksontn.com/events/details/faculty-in-factory-dinner-2002-09-02-2002-1723
END:VEVENT

END:VCALENDAR
