BEGIN:VCALENDAR
VERSION:2.0
PRODID:-//ChamberMaster//Event Calendar 2.0//EN
METHOD:PUBLISH
X-PUBLISHED-TTL:P3D
REFRESH-INTERVAL:P3D
CALSCALE:GREGORIAN
BEGIN:VEVENT
DTSTART:20020604T133000Z
DTEND:20020605T203000Z
X-MICROSOFT-CDO-ALLDAYEVENT:FALSE
SUMMARY:Facilitation Workshop 2002
DESCRIPTION:
X-ALT-DESC;FMTTYPE=text/html:
LOCATION:Union University - Jennings Hall
UID:e.2827.1716
SEQUENCE:3
DTSTAMP:20260424T033311Z
URL:https://member.jacksontn.com/events/details/facilitation-workshop-2002-06-04-2002-1716
END:VEVENT

END:VCALENDAR
