BEGIN:VCALENDAR
VERSION:2.0
PRODID:-//ChamberMaster//Event Calendar 2.0//EN
METHOD:PUBLISH
X-PUBLISHED-TTL:P3D
REFRESH-INTERVAL:P3D
CALSCALE:GREGORIAN
BEGIN:VEVENT
DTSTART:20051028T133000Z
DTEND:20051028T213000Z
X-MICROSOFT-CDO-ALLDAYEVENT:FALSE
SUMMARY:Facilitating for Results
DESCRIPTION:Learn how to be an effective facilitator for your meetings or as a resource for other companies and organizations. Mark your calendar. More details and cost coming soon.
X-ALT-DESC;FMTTYPE=text/html:Learn how to be an effective facilitator for your meetings or as a resource for other companies and organizations. Mark your calendar. More details and cost coming soon.
LOCATION:Jackson Area Chamber of Commerce 197 Auditorium Street Jackson\, TN
UID:e.2827.1162
SEQUENCE:3
DTSTAMP:20260421T141202Z
URL:https://member.jacksontn.com/events/details/facilitating-for-results-10-28-2005-1162
END:VEVENT

END:VCALENDAR
