BEGIN:VCALENDAR
VERSION:2.0
PRODID:-//ChamberMaster//Event Calendar 2.0//EN
METHOD:PUBLISH
X-PUBLISHED-TTL:P3D
REFRESH-INTERVAL:P3D
CALSCALE:GREGORIAN
BEGIN:VEVENT
DTSTART:20050422T133000Z
DTEND:20050422T170000Z
X-MICROSOFT-CDO-ALLDAYEVENT:FALSE
SUMMARY:Employment Law Seminar
DESCRIPTION:Registration and breakfast at 8:30 a.m. No registration fee required. RSVP by April 18. Space is limited. Topic: A Review of Current Issues in Employment Law.
X-ALT-DESC;FMTTYPE=text/html:Registration and breakfast at 8:30 a.m. No registration fee required. RSVP by April 18. Space is limited. Topic: A Review of Current Issues in Employment Law.
LOCATION:Jackson Area Chamber of Commerce 197 Auditorium Street Jackson\, TN 38302
UID:e.2827.940
SEQUENCE:3
DTSTAMP:20260421T200230Z
URL:https://member.jacksontn.com/events/details/employment-law-seminar-04-22-2005-940
END:VEVENT

END:VCALENDAR
