BEGIN:VCALENDAR
VERSION:2.0
PRODID:-//ChamberMaster//Event Calendar 2.0//EN
METHOD:PUBLISH
X-PUBLISHED-TTL:P3D
REFRESH-INTERVAL:P3D
CALSCALE:GREGORIAN
BEGIN:VEVENT
DTSTART;VALUE=DATE:20050301
DTEND;VALUE=DATE:20050401
TRANSP:TRANSPARENT
X-MICROSOFT-CDO-ALLDAYEVENT:TRUE
SUMMARY:''Egguery'' in the library display cases
DESCRIPTION:The Egg Art of Ms. Jean Johnsey. Free admission. Mon - Thurs\, 9:00 a.m - 8 p.m.\, Fri. & Sat. 9 a.m. - 5 p.m.
X-ALT-DESC;FMTTYPE=text/html:The Egg Art of Ms. Jean Johnsey. Free admission. Mon - Thurs\, 9:00 a.m - 8 p.m.\, Fri. & Sat. 9 a.m. - 5 p.m.
LOCATION:Jackson Madison County Library
UID:e.2827.875
SEQUENCE:3
DTSTAMP:20260421T213656Z
URL:https://member.jacksontn.com/events/details/egguery-in-the-library-display-cases-03-01-2005-875
END:VEVENT

END:VCALENDAR
