BEGIN:VCALENDAR
VERSION:2.0
PRODID:-//ChamberMaster//Event Calendar 2.0//EN
METHOD:PUBLISH
X-PUBLISHED-TTL:P3D
REFRESH-INTERVAL:P3D
CALSCALE:GREGORIAN
BEGIN:VEVENT
DTSTART:20050823T130000Z
DTEND:20050823T170000Z
X-MICROSOFT-CDO-ALLDAYEVENT:FALSE
SUMMARY:Effective Presentations with PowerPoint
DESCRIPTION:Learn the in's and outs of PowerPoint and how to create your presentations to make the right professional impact. The presenter is Becky White\, HORNE\, LLP and the cost is $25 per person with the proceeds donated to the 2005 LJ Habitat Home.
X-ALT-DESC;FMTTYPE=text/html:Learn the in's and outs of PowerPoint and how to create your presentations to make the right professional impact. The presenter is Becky White\, HORNE\, LLP and the cost is $25 per person with the proceeds donated to the 2005 LJ Habitat Home.
LOCATION:Union University Blasingame Academic Complex Jackson\, TN
UID:e.2827.1147
SEQUENCE:3
DTSTAMP:20260421T153651Z
URL:https://member.jacksontn.com/events/details/effective-presentations-with-powerpoint-08-23-2005-1147
END:VEVENT

END:VCALENDAR
