BEGIN:VCALENDAR
VERSION:2.0
PRODID:-//ChamberMaster//Event Calendar 2.0//EN
METHOD:PUBLISH
X-PUBLISHED-TTL:P3D
REFRESH-INTERVAL:P3D
CALSCALE:GREGORIAN
BEGIN:VEVENT
DTSTART:20050622T230000Z
DTEND:20050622T050000Z
X-MICROSOFT-CDO-ALLDAYEVENT:FALSE
SUMMARY:Education Masters Degree Info Session
DESCRIPTION:Free information session. All classes available in Jackson.  RSVP to 731.427.4725.
X-ALT-DESC;FMTTYPE=text/html:Free information session. All classes available in Jackson.  RSVP to 731.427.4725.
LOCATION:Jackson State Comm College Student Union Building
UID:e.2827.1098
SEQUENCE:3
DTSTAMP:20260422T052614Z
URL:https://member.jacksontn.com/events/details/education-masters-degree-info-session-06-22-2005-1098
END:VEVENT

END:VCALENDAR
