BEGIN:VCALENDAR
VERSION:2.0
PRODID:-//ChamberMaster//Event Calendar 2.0//EN
METHOD:PUBLISH
X-PUBLISHED-TTL:P3D
REFRESH-INTERVAL:P3D
CALSCALE:GREGORIAN
BEGIN:VEVENT
DTSTART;VALUE=DATE:20051013
DTEND;VALUE=DATE:20051017
TRANSP:TRANSPARENT
X-MICROSOFT-CDO-ALLDAYEVENT:TRUE
SUMMARY:''Dracula: The Case of the Silver Scream''
DESCRIPTION:Tickets are $12 at the door\, $10 in advance\, $8 seniors and students\, $5 matinee. Show times are Thurs. - Sun. at 8:00 p.m.\, Sat & Sun. at 2:30 p.m.
X-ALT-DESC;FMTTYPE=text/html:Tickets are $12 at the door\, $10 in advance\, $8 seniors and students\, $5 matinee. Show times are Thurs. - Sun. at 8:00 p.m.\, Sat & Sun. at 2:30 p.m.
LOCATION:The Ned R. McWherter Center 314 East Main Street Jackson\, TN 38301
UID:e.2827.1265
SEQUENCE:3
DTSTAMP:20260421T143645Z
URL:https://member.jacksontn.com/events/details/dracula-the-case-of-the-silver-scream-10-13-2005-1265
END:VEVENT

END:VCALENDAR
