BEGIN:VCALENDAR
VERSION:2.0
PRODID:-//ChamberMaster//Event Calendar 2.0//EN
METHOD:PUBLISH
X-PUBLISHED-TTL:P3D
REFRESH-INTERVAL:P3D
CALSCALE:GREGORIAN
BEGIN:VEVENT
DTSTART;VALUE=DATE:20050319
DTEND;VALUE=DATE:20050321
TRANSP:TRANSPARENT
X-MICROSOFT-CDO-ALLDAYEVENT:TRUE
SUMMARY:''Dorothy in the Emerald City''
DESCRIPTION:Presented by Ballet Arts of Jackson. Admission $10\, festival seating $15-$20\, reserved. Sat. show is at 7 p.m.\, Sun. show - 2:00 p.m.
X-ALT-DESC;FMTTYPE=text/html:Presented by Ballet Arts of Jackson. Admission $10\, festival seating $15-$20\, reserved. Sat. show is at 7 p.m.\, Sun. show - 2:00 p.m.
LOCATION:The Carl Perkins Civic Center 400 S. Highland Jackson\, TN 38301
UID:e.2827.890
SEQUENCE:3
DTSTAMP:20260421T213907Z
URL:https://member.jacksontn.com/events/details/dorothy-in-the-emerald-city-03-19-2005-890
END:VEVENT

END:VCALENDAR
