BEGIN:VCALENDAR
VERSION:2.0
PRODID:-//ChamberMaster//Event Calendar 2.0//EN
METHOD:PUBLISH
X-PUBLISHED-TTL:P3D
REFRESH-INTERVAL:P3D
CALSCALE:GREGORIAN
BEGIN:VEVENT
DTSTART:20050315T143000Z
DTEND:20050315T170000Z
X-MICROSOFT-CDO-ALLDAYEVENT:FALSE
SUMMARY:''Doing Business with Major Employers''
DESCRIPTION:Harry Fields with Fields & Associates will be the facilitator and presenter for the workshop covering:\n\n-	Pre-requisites for procuring business with medium to large sized companies\n-	Strategies for small business to increase the size and amount of contracts\n-	Developing a full understanding of the certification process\n-	Learning to develop good business relationships\n-	Gaining an understanding of the resources that are available to assist minority businesses\n\nThis workshop is free for women and minority-owned business. RSVP by Monday\, March 14 to Lisa Cothran at 731.423.2200 or e-mail lcothran@jacksontn.com.
X-ALT-DESC;FMTTYPE=text/html:Harry Fields with Fields & Associates will be the facilitator and presenter for the workshop covering:\n\n-	Pre-requisites for procuring business with medium to large sized companies\n-	Strategies for small business to increase the size and amount of contracts\n-	Developing a full understanding of the certification process\n-	Learning to develop good business relationships\n-	Gaining an understanding of the resources that are available to assist minority businesses\n\nThis workshop is free for women and minority-owned business. RSVP by Monday\, March 14 to Lisa Cothran at 731.423.2200 or e-mail lcothran@jacksontn.com.\n\n
LOCATION:The Jackson Area Chamber of Commerce 197 Auditorium Street Jackson\, TN
UID:e.2827.896
SEQUENCE:3
DTSTAMP:20260421T213820Z
URL:https://member.jacksontn.com/events/details/doing-business-with-major-employers-03-15-2005-896
END:VEVENT

END:VCALENDAR
