BEGIN:VCALENDAR
VERSION:2.0
PRODID:-//ChamberMaster//Event Calendar 2.0//EN
METHOD:PUBLISH
X-PUBLISHED-TTL:P3D
REFRESH-INTERVAL:P3D
CALSCALE:GREGORIAN
BEGIN:VEVENT
DTSTART:20050730T000500Z
DTEND:20050730T030000Z
X-MICROSOFT-CDO-ALLDAYEVENT:FALSE
SUMMARY:Diamond Jaxx Salute National Guard
DESCRIPTION:The West Tenn Diamond Jaxx want to honor the families of deployed Tennessee National Guard soldiers as well as recently returned soldiers and their families. These individuals will receive complimentary tickets to attend the Diamond Jaxx game on July 29\, 2005. Sponsorships for special events are available.
X-ALT-DESC;FMTTYPE=text/html:The West Tenn Diamond Jaxx want to honor the families of deployed Tennessee National Guard soldiers as well as recently returned soldiers and their families. These individuals will receive complimentary tickets to attend the Diamond Jaxx game on July 29\, 2005. Sponsorships for special events are available.
LOCATION:Pringles Park
UID:e.2827.994
SEQUENCE:3
DTSTAMP:20260421T171346Z
URL:https://member.jacksontn.com/events/details/diamond-jaxx-salute-national-guard-07-29-2005-994
END:VEVENT

END:VCALENDAR
