BEGIN:VCALENDAR
VERSION:2.0
PRODID:-//ChamberMaster//Event Calendar 2.0//EN
METHOD:PUBLISH
X-PUBLISHED-TTL:P3D
REFRESH-INTERVAL:P3D
CALSCALE:GREGORIAN
BEGIN:VEVENT
DTSTART:20171214T173000Z
DTEND:20171214T190000Z
X-MICROSOFT-CDO-ALLDAYEVENT:FALSE
SUMMARY:December Women In Business
DESCRIPTION:The Holiday Wrap Up\n\nWhether you are looking for those last minute holiday gifts or all your holiday gifts\, join us at the Women In Business Holiday Lunch. Shop local with several retail businesses during the event. Attendees receive a special treat and a chance to win fabulous door prizes.\n\n\n\nSponsored by Simmons Bank\, Robert's Jewelers\, Nordstar Medical Skincare & Laser Center\, West Tennessee Women's Center\n\n\n\nParticipating vendors include: Felecia Bella\, The Dream Center\, La Petite Boutique\, Lazy Suzy\, LD2 Consignment & Jewelry Boutique\, Marilyn Jackson's Gifts\, Our Jackson Home\, Sand's Florist\, and The Urban Cottage
X-ALT-DESC;FMTTYPE=text/html:The Holiday Wrap Up<br />\nWhether you are looking for those last minute holiday gifts or all your holiday gifts\, join us at the Women In Business Holiday Lunch. Shop local with several retail businesses during the event. Attendees receive a special treat and a chance to win fabulous door prizes.<br />\n<br />\nSponsored by Simmons&nbsp\;Bank\, Robert&#39\;s Jewelers\, Nordstar Medical Skincare &amp\; Laser Center\, West Tennessee Women&#39\;s Center<br />\n<br />\nParticipating vendors include: Felecia Bella\, The Dream Center\, La Petite Boutique\, Lazy Suzy\, <span style="color: rgb(0\, 0\, 0)\; font-family: Calibri\, sans-serif\; font-size: 14.666666984558105px\;">LD2 Consignment &amp\; Jewelry Boutique</span>\, Marilyn Jackson&#39\;s Gifts\, Our Jackson Home\, Sand&#39\;s Florist\, and The Urban Cottage
LOCATION:Carl Grant Events Center\, Union University 1050 Union University Dr. Jackson\, TN 38305
UID:e.2827.5649
SEQUENCE:3
DTSTAMP:20260423T212249Z
URL:https://member.jacksontn.com/events/details/december-women-in-business-5649
END:VEVENT

END:VCALENDAR
