BEGIN:VCALENDAR
VERSION:2.0
PRODID:-//ChamberMaster//Event Calendar 2.0//EN
METHOD:PUBLISH
X-PUBLISHED-TTL:P3D
REFRESH-INTERVAL:P3D
CALSCALE:GREGORIAN
BEGIN:VEVENT
DTSTART:20050910T230000Z
DTEND:20050910T050000Z
X-MICROSOFT-CDO-ALLDAYEVENT:FALSE
SUMMARY:Dare to Dine Sept 05
DESCRIPTION:
X-ALT-DESC;FMTTYPE=text/html:
LOCATION:
UID:e.2827.1702
SEQUENCE:3
DTSTAMP:20260421T184953Z
URL:https://member.jacksontn.com/events/details/dare-to-dine-sept-05-09-10-2005-1702
END:VEVENT

END:VCALENDAR
