BEGIN:VCALENDAR
VERSION:2.0
PRODID:-//ChamberMaster//Event Calendar 2.0//EN
METHOD:PUBLISH
X-PUBLISHED-TTL:P3D
REFRESH-INTERVAL:P3D
CALSCALE:GREGORIAN
BEGIN:VEVENT
DTSTART:20040902T133000Z
DTEND:20040902T213000Z
X-MICROSOFT-CDO-ALLDAYEVENT:FALSE
SUMMARY:Dale Carnegie - Step Up To Leadership 2004
DESCRIPTION:
X-ALT-DESC;FMTTYPE=text/html:
LOCATION:Chamber of Commerce
UID:e.2827.1868
SEQUENCE:3
DTSTAMP:20260422T151416Z
URL:https://member.jacksontn.com/events/details/dale-carnegie-step-up-to-leadership-2004-09-02-2004-1868
END:VEVENT

END:VCALENDAR
