BEGIN:VCALENDAR
VERSION:2.0
PRODID:-//ChamberMaster//Event Calendar 2.0//EN
METHOD:PUBLISH
X-PUBLISHED-TTL:P3D
REFRESH-INTERVAL:P3D
CALSCALE:GREGORIAN
BEGIN:VEVENT
DTSTART;VALUE=DATE:20030717
DTEND;VALUE=DATE:20030718
TRANSP:TRANSPARENT
X-MICROSOFT-CDO-ALLDAYEVENT:TRUE
SUMMARY:Dale Carnegie - Cold Calling for Better Results -2003
DESCRIPTION:
X-ALT-DESC;FMTTYPE=text/html:
LOCATION:Chamber of Commerce
UID:e.2827.1703
SEQUENCE:3
DTSTAMP:20260423T113452Z
URL:https://member.jacksontn.com/events/details/dale-carnegie-cold-calling-for-better-results-2003-07-17-2003-1703
END:VEVENT

END:VCALENDAR
