BEGIN:VCALENDAR
VERSION:2.0
PRODID:-//ChamberMaster//Event Calendar 2.0//EN
METHOD:PUBLISH
X-PUBLISHED-TTL:P3D
REFRESH-INTERVAL:P3D
CALSCALE:GREGORIAN
BEGIN:VEVENT
DTSTART:20050109T230000Z
DTEND:20050110T023000Z
X-MICROSOFT-CDO-ALLDAYEVENT:FALSE
SUMMARY:Dale Carnegie - Breakthrough to Success
DESCRIPTION:The Chamber is proud to partner with Dale Carnegie to offer their Breakthrough To Success 12 week course.  The Dale Carnegie Course teach participants how to strengthen interpersonal relations\, manage stress\, and handle fast-changing workplace conditions.  What’s more\, people develop a take-charge attitude that allows them to initiate with confidence and enthusiasm.  The training powers people to move beyond their comfort zone as they reach for – and attain – breakthrough goals.  This provides a foundation for life-long performance improvement. Classes will begin on Monday\, January 9 at the Chamber and will continue for 12 weeks.  The classes will meet each Monday from 5:00pm to 8:30pm at the Chamber.  Classes are $1395 for Chamber members and $1595 for non members.  Class size is very limited and the class is very popular\, so register today by calling Lisa Webb at 423-2200 or by email at lwebb@jacksontn.com.  Registration deadline is January 3rd.
X-ALT-DESC;FMTTYPE=text/html:<P class=MsoNormal style="MARGIN: 0in 0in 0pt"><FONT face="Times New Roman">The Chamber is proud to partner with Dale Carnegie to offer their Breakthrough To Success 12 week course.<SPAN style="mso-spacerun: yes">&nbsp\; </SPAN>The Dale Carnegie Course teach participants how to strengthen interpersonal relations\, manage stress\, and handle fast-changing workplace conditions.<SPAN style="mso-spacerun: yes">&nbsp\; </SPAN>What’s more\, people develop a take-charge attitude that allows them to initiate with confidence and enthusiasm.<SPAN style="mso-spacerun: yes">&nbsp\; </SPAN>The training powers people to move beyond their comfort zone as they reach for – and attain – breakthrough goals.<SPAN style="mso-spacerun: yes">&nbsp\; </SPAN>This provides a foundation for life-long performance improvement.</FONT></P><P class=MsoNormal style="MARGIN: 0in 0in 0pt"><?xml:namespace prefix = o ns = "urn:schemas-microsoft-com:office:office" /><o:p><FONT face="Times New Roman">&nbsp\;</FONT></o:p></P><P class=MsoNormal style="MARGIN: 0in 0in 0pt"><FONT face="Times New Roman">Classes will begin on Monday\, January 9 at the Chamber and will continue&nbsp\;for 12 weeks.<SPAN style="mso-spacerun: yes">&nbsp\; </SPAN>The classes will meet each Monday from <?xml:namespace prefix = st1 ns = "urn:schemas-microsoft-com:office:smarttags" /><st1:time Minute="0" Hour="17">5:00pm</st1:time> to <st1:time Minute="30" Hour="20">8:30pm at the Chamber</st1:time>.<SPAN style="mso-spacerun: yes">&nbsp\; </SPAN>Classes are $1395 for Chamber members and $1595 for non members.<SPAN style="mso-spacerun: yes">&nbsp\; </SPAN>Class size is very limited and the class is very popular\, so register today by calling <st1:PersonName>Lisa Webb</st1:PersonName> at 423-2200 or by email at </FONT><A href="mailto:lwebb@jacksontn.com"><FONT face="Times New Roman">lwebb@jacksontn.com</FONT></A><FONT face="Times New Roman">.<SPAN style="mso-spacerun: yes">&nbsp\; </SPAN>Registration deadline is January 3<SUP>rd</SUP>.</FONT></P><DIV>&nbsp\;</DIV>
LOCATION:Chamber of Commerce 197 Auditorium Street Jackson\, TN 38301
UID:e.2827.1550
SEQUENCE:3
DTSTAMP:20260422T073434Z
URL:https://member.jacksontn.com/events/details/dale-carnegie-breakthrough-to-success-01-09-2005-1550
END:VEVENT

END:VCALENDAR
