BEGIN:VCALENDAR
VERSION:2.0
PRODID:-//ChamberMaster//Event Calendar 2.0//EN
METHOD:PUBLISH
X-PUBLISHED-TTL:P3D
REFRESH-INTERVAL:P3D
CALSCALE:GREGORIAN
BEGIN:VEVENT
DTSTART:20010511T000000Z
DTEND:20010510T050000Z
X-MICROSOFT-CDO-ALLDAYEVENT:FALSE
SUMMARY:Cultivating Fitness
DESCRIPTION:Lace up your running shoes and head on over to this session to learn how to increase vigor and improve mood with your own exercise program. You'll find out why the benefits last long after the exercise session has ended and how your fatigue can be replaced by an enhanced sense of vitality. Your body will thank you! This is a FREE community event. Brought to you by the Woman 2 Woman Series from the Women's Pavilion.
X-ALT-DESC;FMTTYPE=text/html:Lace up your running shoes and head on over to this session to learn how to increase vigor and improve mood with your own exercise program. You'll find out why the benefits last long after the exercise session has ended and how your fatigue can be replaced by an enhanced sense of vitality. Your body will thank you! This is a FREE community event. Brought to you by the Woman 2 Woman Series from the Women's Pavilion.
LOCATION:J. Walter Barnes Conference Center Jackson-Madison County General Hospital Jackson\, TN 38301
UID:e.2827.840
SEQUENCE:3
DTSTAMP:20260424T232550Z
URL:https://member.jacksontn.com/events/details/cultivating-fitness-05-10-2001-840
END:VEVENT

END:VCALENDAR
