BEGIN:VCALENDAR
VERSION:2.0
PRODID:-//ChamberMaster//Event Calendar 2.0//EN
METHOD:PUBLISH
X-PUBLISHED-TTL:P3D
REFRESH-INTERVAL:P3D
CALSCALE:GREGORIAN
BEGIN:VEVENT
DTSTART:20050422T110000Z
DTEND:20050425T030000Z
X-MICROSOFT-CDO-ALLDAYEVENT:FALSE
SUMMARY:Cracker Barrel Porch Sale
DESCRIPTION:Everything on the porch\, except the rockers\, will be on sale\, including some overstocked and out of season favorites. All markdowns will be taken at the register.
X-ALT-DESC;FMTTYPE=text/html:Everything on the porch\, except the rockers\, will be on sale\, including some overstocked and out of season favorites. All markdowns will be taken at the register.
LOCATION:Cracker Barrel
UID:e.2827.1028
SEQUENCE:3
DTSTAMP:20260421T200339Z
URL:https://member.jacksontn.com/events/details/cracker-barrel-porch-sale-04-22-2005-1028
END:VEVENT

END:VCALENDAR
