BEGIN:VCALENDAR
VERSION:2.0
PRODID:-//ChamberMaster//Event Calendar 2.0//EN
METHOD:PUBLISH
X-PUBLISHED-TTL:P3D
REFRESH-INTERVAL:P3D
CALSCALE:GREGORIAN
BEGIN:VEVENT
DTSTART:20051020T230000Z
DTEND:20051021T013000Z
X-MICROSOFT-CDO-ALLDAYEVENT:FALSE
SUMMARY:Courage Night
DESCRIPTION:Join Davis-Kidd Booksellers and the Young Survival Coalition in the fight against breast cancer.  For a $5 donation to YSC\, you can enjoy all the usual Girls’ Night Out trappings: fun giveaways and samples\, hors d’oeuvres\, and more from 6pm-7pm.  Then we'll get serious as Young Survival Coalition makes an information presentation about breast cancer awareness and survivor celebration!
X-ALT-DESC;FMTTYPE=text/html:Join Davis-Kidd Booksellers and the Young Survival Coalition in the fight against breast cancer.  For a $5 donation to YSC\, you can enjoy all the usual Girls’ Night Out trappings: fun giveaways and samples\, hors d’oeuvres\, and more from 6pm-7pm.  Then we'll get serious as Young Survival Coalition makes an information presentation about breast cancer awareness and survivor celebration!
LOCATION:
UID:e.2827.1289
SEQUENCE:3
DTSTAMP:20260421T142623Z
URL:https://member.jacksontn.com/events/details/courage-night-10-20-2005-1289
END:VEVENT

END:VCALENDAR
