BEGIN:VCALENDAR
VERSION:2.0
PRODID:-//ChamberMaster//Event Calendar 2.0//EN
METHOD:PUBLISH
X-PUBLISHED-TTL:P3D
REFRESH-INTERVAL:P3D
CALSCALE:GREGORIAN
BEGIN:VEVENT
DTSTART:20030602T140000Z
DTEND:20030602T170000Z
X-MICROSOFT-CDO-ALLDAYEVENT:FALSE
SUMMARY:Cosmetology Workshop 2003
DESCRIPTION:
X-ALT-DESC;FMTTYPE=text/html:
LOCATION:West Tennessee Business College 1186 Highway 45 By-Pass Jackson\, TN 38301
UID:e.2827.1701
SEQUENCE:3
DTSTAMP:20260423T124406Z
URL:https://member.jacksontn.com/events/details/cosmetology-workshop-2003-06-02-2003-1701
END:VEVENT

END:VCALENDAR
