BEGIN:VCALENDAR
VERSION:2.0
PRODID:-//ChamberMaster//Event Calendar 2.0//EN
METHOD:PUBLISH
X-PUBLISHED-TTL:P3D
REFRESH-INTERVAL:P3D
CALSCALE:GREGORIAN
BEGIN:VEVENT
DTSTART:20050308T220000Z
DTEND:20050308T233000Z
X-MICROSOFT-CDO-ALLDAYEVENT:FALSE
SUMMARY:Community Art Program at Union University
DESCRIPTION:Grades 5-8 will learn painting and mixed media. $185
X-ALT-DESC;FMTTYPE=text/html:Grades 5-8 will learn painting and mixed media. $185
LOCATION:Dept. of Art - Union University 1050 Union University Dr. Jackson\, TN 38305
UID:e.2827.873
SEQUENCE:3
DTSTAMP:20260422T014337Z
URL:https://member.jacksontn.com/events/details/community-art-program-at-union-university-03-08-2005-873
END:VEVENT

END:VCALENDAR
