BEGIN:VCALENDAR
VERSION:2.0
PRODID:-//ChamberMaster//Event Calendar 2.0//EN
METHOD:PUBLISH
X-PUBLISHED-TTL:P3D
REFRESH-INTERVAL:P3D
CALSCALE:GREGORIAN
BEGIN:VEVENT
DTSTART:20050505T123000Z
DTEND:20050505T133000Z
X-MICROSOFT-CDO-ALLDAYEVENT:FALSE
SUMMARY:Citywide Annual Prayer Breakfast
DESCRIPTION:In observance of National Day of Prayer. Rev. E. Harrell Phillips is guest speaker. Music provided by Rejoice! from Aldersgate Methodist Church. Cost is $10. Please RSVP by Friday\, April 29. Payment is to be made at the door.
X-ALT-DESC;FMTTYPE=text/html:In observance of National Day of Prayer. Rev. E. Harrell Phillips is guest speaker. Music provided by Rejoice! from Aldersgate Methodist Church. Cost is $10. Please RSVP by Friday\, April 29. Payment is to be made at the door.
LOCATION:Englewood Baptist Church 2239 N. Highland Ave. Jackson\, TN 38305
UID:e.2827.1026
SEQUENCE:3
DTSTAMP:20260421T182346Z
URL:https://member.jacksontn.com/events/details/citywide-annual-prayer-breakfast-05-05-2005-1026
END:VEVENT

END:VCALENDAR
