BEGIN:VCALENDAR
VERSION:2.0
PRODID:-//ChamberMaster//Event Calendar 2.0//EN
METHOD:PUBLISH
X-PUBLISHED-TTL:P3D
REFRESH-INTERVAL:P3D
CALSCALE:GREGORIAN
BEGIN:VEVENT
DTSTART:20050709T130000Z
DTEND:20050709T220000Z
X-MICROSOFT-CDO-ALLDAYEVENT:FALSE
SUMMARY:Charity Poker Run\, Bike Wash & Cook-Out
DESCRIPTION:First bike out at 10 a.m.\, last bike out at noon\, last bike in at 3:00 p.m. Cost for the ride is $10 per person. All events are part of the Bumpus Christmas in July celebration.
X-ALT-DESC;FMTTYPE=text/html:First bike out at 10 a.m.\, last bike out at noon\, last bike in at 3:00 p.m. Cost for the ride is $10 per person. All events are part of the Bumpus Christmas in July celebration.
LOCATION:Bumpus Harley Davidson 326 Carriage House Drive Jackson\, TN
UID:e.2827.1129
SEQUENCE:3
DTSTAMP:20260421T185026Z
URL:https://member.jacksontn.com/events/details/charity-poker-run-bike-wash-cook-out-07-09-2005-1129
END:VEVENT

END:VCALENDAR
