BEGIN:VCALENDAR
VERSION:2.0
PRODID:-//ChamberMaster//Event Calendar 2.0//EN
METHOD:PUBLISH
X-PUBLISHED-TTL:P3D
REFRESH-INTERVAL:P3D
CALSCALE:GREGORIAN
BEGIN:VEVENT
DTSTART:20191101T123000Z
DTEND:20191101T140000Z
X-MICROSOFT-CDO-ALLDAYEVENT:FALSE
SUMMARY:Chamber Member Breakfast
DESCRIPTION:p.p1 {margin: 0.0px 0.0px 0.0px 0.0px\; text-align: center\; font: 48.0px 'Arial Black'\; color: #064469Get the Buzz on The Grizz!\n\nGet the Buzz on the Grizz!\nNicholas Frasco\, senior vice president of revenue with the Memphis Grizzlies will give us the scoop about the upcoming season.
X-ALT-DESC;FMTTYPE=text/html:<h2>\n<style type="text/css">p.p1 {margin: 0.0px 0.0px 0.0px 0.0px\; text-align: center\; font: 48.0px 'Arial Black'\; color: #064469Get the Buzz on The Grizz!\n</style>\n<span style="color:#003056\;"><span style="font-family:arial\;"><strong>Get the Buzz on the Grizz!</strong></span></span></h2>\n<span style="font-size:14px\;"><span style="font-family:arial\;">Nicholas Frasco\, senior vice president of revenue with the Memphis Grizzlies will give us the scoop about the upcoming season.</span></span>
LOCATION:Jackson Country Club 31 Jackson Country Club Lane Jackson\, TN 38305
UID:e.2827.6753
SEQUENCE:3
DTSTAMP:20260421T183430Z
URL:https://member.jacksontn.com/events/details/chamber-member-breakfast-6753
END:VEVENT

END:VCALENDAR
