BEGIN:VCALENDAR
VERSION:2.0
PRODID:-//ChamberMaster//Event Calendar 2.0//EN
METHOD:PUBLISH
X-PUBLISHED-TTL:P3D
REFRESH-INTERVAL:P3D
CALSCALE:GREGORIAN
BEGIN:VEVENT
DTSTART:20050628T190000Z
DTEND:20050628T050000Z
X-MICROSOFT-CDO-ALLDAYEVENT:FALSE
SUMMARY:Catch the Fashion Wave
DESCRIPTION:Fashion benefit to raise money for local veterans and our soldiers in Iraq. Featuring Stein Mart's summer fashion collection. Light refreshments available. Tickets $10 in advance\, $12.00 at the door. Tickets available at Davis-Kidd Booksellers & Stein Mart.
X-ALT-DESC;FMTTYPE=text/html:Fashion benefit to raise money for local veterans and our soldiers in Iraq. Featuring Stein Mart's summer fashion collection. Light refreshments available. Tickets $10 in advance\, $12.00 at the door. Tickets available at Davis-Kidd Booksellers & Stein Mart.
LOCATION:Old English Inn 2267 N. Highland Ave Jackson\, TN
UID:e.2827.1097
SEQUENCE:3
DTSTAMP:20260421T182347Z
URL:https://member.jacksontn.com/events/details/catch-the-fashion-wave-06-28-2005-1097
END:VEVENT

END:VCALENDAR
