BEGIN:VCALENDAR
VERSION:2.0
PRODID:-//ChamberMaster//Event Calendar 2.0//EN
METHOD:PUBLISH
X-PUBLISHED-TTL:P3D
REFRESH-INTERVAL:P3D
CALSCALE:GREGORIAN
BEGIN:VEVENT
DTSTART;VALUE=DATE:20050424
DTEND;VALUE=DATE:20050501
TRANSP:TRANSPARENT
X-MICROSOFT-CDO-ALLDAYEVENT:TRUE
SUMMARY:Casey Jones Week & the 2005 Casey Jones Hobo Gathering
DESCRIPTION:Featuring the Casey Jones Hobo Gathering April 28-30 and Casey Jones Day\, April 30. Week of festivities commemorates the life and legend of Jackson's own and America's railroad legend\, Casey Jones. Meet Casey Jones' granddaughter Nancy Howse\, Sat.\, Apr. 30 from 2 to 4 p.m. at the Casey Jones Train Store. See www.caseyjones.com for a schedule of events. All Aboard!
X-ALT-DESC;FMTTYPE=text/html:Featuring the Casey Jones Hobo Gathering April 28-30 and Casey Jones Day\, April 30. Week of festivities commemorates the life and legend of Jackson's own and America's railroad legend\, Casey Jones. Meet Casey Jones' granddaughter Nancy Howse\, Sat.\, Apr. 30 from 2 to 4 p.m. at the Casey Jones Train Store. See www.caseyjones.com for a schedule of events. All Aboard!
LOCATION:Casey Jones Village 30 Casey Jones Lane Jackson\, TN
UID:e.2827.918
SEQUENCE:3
DTSTAMP:20260421T200408Z
URL:https://member.jacksontn.com/events/details/casey-jones-week-the-2005-casey-jones-hobo-gathering-04-24-2005-918
END:VEVENT

END:VCALENDAR
