BEGIN:VCALENDAR
VERSION:2.0
PRODID:-//ChamberMaster//Event Calendar 2.0//EN
METHOD:PUBLISH
X-PUBLISHED-TTL:P3D
REFRESH-INTERVAL:P3D
CALSCALE:GREGORIAN
BEGIN:VEVENT
DTSTART:20010515T220000Z
DTEND:20010520T050000Z
X-MICROSOFT-CDO-ALLDAYEVENT:FALSE
SUMMARY:Casey Jones Train Fest
DESCRIPTION:Formerly the Forked Deer River Festival\, this year's festival promises to be an exciting event! Enjoy live entertainment (including Jessica Andrews   Sat. Noon to Midnight\; Sun. Noon to 5 p.m. \n\nAdmission: $10.00\; Children under 5 free. Admission includes all events\, all entertainment and unlimited rides at the Cannon Ball Carnival. It does not cover carnival booth games or food.\n\nEntertainment: \nThursday Night - 5 - 7 p.m.   Reaching Jane (at Business After Hours)\n                               7 - 8:30 p.m.   Annex\n                               9 - 10:30 p.m.   Maji\n\nFriday Night -  5 - 6:30 p.m.  Paula Bridges\n                          7 - 8:30 p.m.  Memphis Soal Review\n                          9 - 10:15 p.m.  Jessica Andrews\n                          10:30 - Midnight  Reaching Jane\n\nSaturday -       1 - 2:30 p.m.  Tom Foolery Band\n                         3 - 4:30 p.m.  The Cantrells\n                         5 - 6:30 p.m.  Little Boys Blue\n                         7 - 8:30 p.m.  Mikey Utley & MPulse\n                         9 - 10:15 p.m.  Marty Stuart\n                         10:30 - Midnight  Alex Harvey\n\nSunday Afternoon - Casey Jones Barber Shop Quartette\n                                    TBA
X-ALT-DESC;FMTTYPE=text/html:Formerly the Forked Deer River Festival\, this year's festival promises to be an exciting event! Enjoy live entertainment (including Jessica Andrews & Marty Stuart)\, the P & G Cannon Ball Carnival by Belle City Amusements\, Folk Art Show (exhibit & competition)\, Choo-Choo Children's events (including clowns\, shows\, and a petting zoo!)\, the Scenic Century Bike Ride\, and the Law Enforcement Tug-0f-War (Jackson Police Dept. vs. Madison County Sheriffs Dept.).  For more info\, check out the website at www.caseyjonestrainfest.com.\n\nFestival Hours:  Tues. - Fri. 5 p.m. to Midnight\; Sat. Noon to Midnight\; Sun. Noon to 5 p.m. \n\nAdmission: $10.00\; Children under 5 free. Admission includes all events\, all entertainment and unlimited rides at the Cannon Ball Carnival. It does not cover carnival booth games or food.\n\nEntertainment: \nThursday Night - 5 - 7 p.m.   Reaching Jane (at Business After Hours)\n                               7 - 8:30 p.m.   Annex\n                               9 - 10:30 p.m.   Maji\n\nFriday Night -  5 - 6:30 p.m.  Paula Bridges\n                          7 - 8:30 p.m.  Memphis Soal Review\n                          9 - 10:15 p.m.  Jessica Andrews\n                          10:30 - Midnight  Reaching Jane\n\nSaturday -       1 - 2:30 p.m.  Tom Foolery Band\n                         3 - 4:30 p.m.  The Cantrells\n                         5 - 6:30 p.m.  Little Boys Blue\n                         7 - 8:30 p.m.  Mikey Utley & MPulse\n                         9 - 10:15 p.m.  Marty Stuart\n                         10:30 - Midnight  Alex Harvey\n\nSunday Afternoon - Casey Jones Barber Shop Quartette\n                                    TBA
LOCATION:Jackson Fairgrounds Park 800 S. Highland (Hwy 45 South) Jackson\, TN 38301
UID:e.2827.841
SEQUENCE:3
DTSTAMP:20260425T003341Z
URL:https://member.jacksontn.com/events/details/casey-jones-train-fest-05-15-2001-841
END:VEVENT

END:VCALENDAR
