BEGIN:VCALENDAR
VERSION:2.0
PRODID:-//ChamberMaster//Event Calendar 2.0//EN
METHOD:PUBLISH
X-PUBLISHED-TTL:P3D
REFRESH-INTERVAL:P3D
CALSCALE:GREGORIAN
BEGIN:VEVENT
DTSTART:20050909T220000Z
DTEND:20050910T020000Z
X-MICROSOFT-CDO-ALLDAYEVENT:FALSE
SUMMARY:Casey Jones Old Time Music Festival
DESCRIPTION:Great old-time string bluegrass\, gospel and country music\, arts and crafts\, concessions and more. Bring your lawn chair and enjoy stage performances and shade tree pickin'.
X-ALT-DESC;FMTTYPE=text/html:Great old-time string bluegrass\, gospel and country music\, arts and crafts\, concessions and more. Bring your lawn chair and enjoy stage performances and shade tree pickin'.
LOCATION:Casey Jones Amphitheatre Highway 45 Bypass at I-40\, exit 80A Jackson\, TN 38301
UID:e.2827.1125
SEQUENCE:3
DTSTAMP:20260421T131339Z
URL:https://member.jacksontn.com/events/details/casey-jones-old-time-music-festival-09-09-2005-1125
END:VEVENT

END:VCALENDAR
