BEGIN:VCALENDAR
VERSION:2.0
PRODID:-//ChamberMaster//Event Calendar 2.0//EN
METHOD:PUBLISH
X-PUBLISHED-TTL:P3D
REFRESH-INTERVAL:P3D
CALSCALE:GREGORIAN
BEGIN:VEVENT
DTSTART:20050316T003000Z
DTEND:20050315T060000Z
X-MICROSOFT-CDO-ALLDAYEVENT:FALSE
SUMMARY:Casey Jones Barbershop Chorus ''Dinner Entertainment''
DESCRIPTION:Barbershop music presented to the customers of the Old Country Store.
X-ALT-DESC;FMTTYPE=text/html:Barbershop music presented to the customers of the Old Country Store.
LOCATION:Old Country Store
UID:e.2827.891
SEQUENCE:3
DTSTAMP:20260421T213939Z
URL:https://member.jacksontn.com/events/details/casey-jones-barbershop-chorus-dinner-entertainment-03-15-2005-891
END:VEVENT

END:VCALENDAR
