BEGIN:VCALENDAR
VERSION:2.0
PRODID:-//ChamberMaster//Event Calendar 2.0//EN
METHOD:PUBLISH
X-PUBLISHED-TTL:P3D
REFRESH-INTERVAL:P3D
CALSCALE:GREGORIAN
BEGIN:VEVENT
DTSTART:20050816T233000Z
DTEND:20050816T050000Z
X-MICROSOFT-CDO-ALLDAYEVENT:FALSE
SUMMARY:Casey Jones Barbershop Chorus
DESCRIPTION:Dinner entertainment. Free admission. Barbershop songs sung for the patrons of the Old Country Store.
X-ALT-DESC;FMTTYPE=text/html:Dinner entertainment. Free admission. Barbershop songs sung for the patrons of the Old Country Store.
LOCATION:The Old Country Store Highway 45 Bypass at I-40\, exit 80A Jackson\, TN 38301
UID:e.2827.1174
SEQUENCE:3
DTSTAMP:20260421T172306Z
URL:https://member.jacksontn.com/events/details/casey-jones-barbershop-chorus-08-16-2005-1174
END:VEVENT

END:VCALENDAR
