BEGIN:VCALENDAR
VERSION:2.0
PRODID:-//ChamberMaster//Event Calendar 2.0//EN
METHOD:PUBLISH
X-PUBLISHED-TTL:P3D
REFRESH-INTERVAL:P3D
CALSCALE:GREGORIAN
BEGIN:VEVENT
DTSTART:20050621T233000Z
DTEND:20050622T013000Z
X-MICROSOFT-CDO-ALLDAYEVENT:FALSE
SUMMARY:Casey Jones Barbershop Chorus
DESCRIPTION:Free admission. Barbershop music presented to the customers of the Old Country Store.
X-ALT-DESC;FMTTYPE=text/html:Free admission. Barbershop music presented to the customers of the Old Country Store.
LOCATION:Old Country Store 30 Casey Jones Lane Jackson\, TN
UID:e.2827.1108
SEQUENCE:3
DTSTAMP:20260422T010124Z
URL:https://member.jacksontn.com/events/details/casey-jones-barbershop-chorus-06-21-2005-1108
END:VEVENT

END:VCALENDAR
