BEGIN:VCALENDAR
VERSION:2.0
PRODID:-//ChamberMaster//Event Calendar 2.0//EN
METHOD:PUBLISH
X-PUBLISHED-TTL:P3D
REFRESH-INTERVAL:P3D
CALSCALE:GREGORIAN
BEGIN:VEVENT
DTSTART:20180420T130000Z
DTEND:20180420T140000Z
X-MICROSOFT-CDO-ALLDAYEVENT:FALSE
SUMMARY:CapitolTALK
DESCRIPTION:Join us for CapitolTALK\, a town hall meeting with our state legislators\, Rep. Jimmy Eldridge\, Sen. Ed Jackson and Rep. Johnny Shaw. \n\n \n\nA light continental breakfast will be served.\n\n\n\nSponsored by:\n\nAlexander Thompson Arnold PLLC\n\nAllison Insurance Group \n\nAT&T\n\nFirstBank\n\nGerdau\n\nStan Harris\n\nJackson Energy Authority\n\nVoya Financial Advisors\, Inc. - Steve Little and Brad Little\n\nWest Tennessee Healthcare
X-ALT-DESC;FMTTYPE=text/html:<div bell="" style="margin: 0px\; font-stretch: normal\; font-size: 21px\; line-height: normal\;"><span style="font-family:arial\;"><span style="font-size:14px\;">Join us for CapitolTALK\, a town hall meeting with our state legislators\, Rep. Jimmy Eldridge\, </span></span><span style="font-family: arial\; font-size: 14px\;">Sen. Ed Jackson&nbsp\;</span><span style="font-family:arial\;"><span style="font-size:14px\;">and Rep. Johnny Shaw.&nbsp\;</span></span></div>\n\n<div bell="" min-height:="" style="margin: 0px\; font-stretch: normal\; font-size: 21px\; line-height: normal\;">&nbsp\;</div>\n\n<div bell="" style="margin: 0px\; font-stretch: normal\; font-size: 21px\; line-height: normal\;"><span style="font-family:arial\;"><span style="font-size:14px\;">A light continental breakfast will be served.</span></span><br />\n<br />\n<span style="font-family:arial\;"><span style="font-size:14px\;">Sponsored by:</span></span></div>\n\n<div bell="" color:="" style="margin: 0px\; font-stretch: normal\; font-size: 22px\; line-height: normal\;"><span style="font-family:arial\;"><span style="font-size:14px\;"><span style="text-decoration: underline"><a href="http://atacpa.net/"><span style="color:799900\;">Alexander Thompson Arnold PLLC</span></a></span></span></span></div>\n\n<div bell="" color:="" style="margin: 0px\; font-stretch: normal\; font-size: 22px\; line-height: normal\;"><span style="font-family:arial\;"><span style="font-size:14px\;"><span style="text-decoration: underline"><a href="http://www.allison-ins.com/"><span style="color:799900\;">Allison Insurance Group&nbsp\;</span></a></span></span></span></div>\n\n<div bell="" color:="" style="margin: 0px\; font-stretch: normal\; font-size: 22px\; line-height: normal\;"><span style="font-family:arial\;"><span style="font-size:14px\;"><span style="text-decoration: underline"><a href="https://www.att.com/"><span style="color:799900\;">AT&amp\;T</span></a></span></span></span></div>\n\n<div bell="" color:="" style="margin: 0px\; font-stretch: normal\; font-size: 22px\; line-height: normal\;"><span style="font-family:arial\;"><span style="font-size:14px\;"><span style="text-decoration: underline"><a href="https://www.firstbankonline.com/"><span style="color:799900\;">FirstBank</span></a></span></span></span></div>\n\n<div bell="" color:="" style="margin: 0px\; font-stretch: normal\; font-size: 22px\; line-height: normal\;"><span style="font-family:arial\;"><span style="font-size:14px\;"><span style="text-decoration: underline"><a href="http://www.gerdau.com/"><span style="color:799900\;">Gerdau</span></a></span></span></span></div>\n\n<div bell="" color:="" style="margin: 0px\; font-stretch: normal\; font-size: 22px\; line-height: normal\;"><span style="font-family:arial\;"><span style="font-size:14px\;">Stan Harris</span></span></div>\n\n<div bell="" color:="" style="margin: 0px\; font-stretch: normal\; font-size: 22px\; line-height: normal\;"><span style="font-family:arial\;"><span style="font-size:14px\;"><span style="text-decoration: underline"><a href="http://jaxenergy.com/">Jackson Energy Authority</a></span></span></span></div>\n\n<div bell="" color:="" style="margin: 0px\; font-stretch: normal\; font-size: 22px\; line-height: normal\;"><span style="font-family:arial\;"><span style="font-size:14px\;"><span style="text-decoration: underline"><a href="http://www.jacksonretire.com/">Voya Financial Advisors\, Inc. - Steve Little and Brad Little</a></span></span></span></div>\n\n<div bell="" color:="" style="margin: 0px\; font-stretch: normal\; font-size: 22px\; line-height: normal\;"><span style="font-family:arial\;"><span style="font-size:14px\;"><span style="text-decoration: underline"><a href="http://www.wth.org/">West Tennessee Healthcare</a></span></span></span></div>\n
LOCATION:Jackson Chamber 197 Auditorium Street Jackson\, TN 38301
UID:e.2827.6681
SEQUENCE:3
DTSTAMP:20260423T161850Z
URL:https://member.jacksontn.com/events/details/capitoltalk-6681
END:VEVENT

END:VCALENDAR
