BEGIN:VCALENDAR
VERSION:2.0
PRODID:-//ChamberMaster//Event Calendar 2.0//EN
METHOD:PUBLISH
X-PUBLISHED-TTL:P3D
REFRESH-INTERVAL:P3D
CALSCALE:GREGORIAN
BEGIN:VEVENT
DTSTART:20020820T050000Z
DTEND:20030430T050000Z
X-MICROSOFT-CDO-ALLDAYEVENT:FALSE
SUMMARY:Business Seminar Series 2002-03
DESCRIPTION:Business Seminar Series 2002-03
X-ALT-DESC;FMTTYPE=text/html:Business Seminar Series 2002-03
LOCATION:Jackson Area Chamber of Commerce
UID:e.2827.1954
SEQUENCE:3
DTSTAMP:20260423T155508Z
URL:https://member.jacksontn.com/events/details/business-seminar-series-2002-03-08-20-2002-1954
END:VEVENT

END:VCALENDAR
