BEGIN:VCALENDAR
VERSION:2.0
PRODID:-//ChamberMaster//Event Calendar 2.0//EN
METHOD:PUBLISH
X-PUBLISHED-TTL:P3D
REFRESH-INTERVAL:P3D
CALSCALE:GREGORIAN
BEGIN:VEVENT
DTSTART:20011025T220000Z
DTEND:20011026T000000Z
X-MICROSOFT-CDO-ALLDAYEVENT:FALSE
SUMMARY:Business After Hours - October 01
DESCRIPTION:
X-ALT-DESC;FMTTYPE=text/html:
LOCATION:Downtown Development Corp. P. O. Box 1904 Jackson\, TN 383021904
UID:e.2827.1697
SEQUENCE:3
DTSTAMP:20260424T163538Z
URL:https://member.jacksontn.com/events/details/business-after-hours-october-01-10-25-2001-1697
END:VEVENT

END:VCALENDAR
