BEGIN:VCALENDAR
VERSION:2.0
PRODID:-//ChamberMaster//Event Calendar 2.0//EN
METHOD:PUBLISH
X-PUBLISHED-TTL:P3D
REFRESH-INTERVAL:P3D
CALSCALE:GREGORIAN
BEGIN:VEVENT
DTSTART:20010517T220000Z
DTEND:20010518T000000Z
X-MICROSOFT-CDO-ALLDAYEVENT:FALSE
SUMMARY:Business After Hours - May 01
DESCRIPTION:
X-ALT-DESC;FMTTYPE=text/html:
LOCATION:Casey Jones Train Fest Jackson Fairgrounds Park
UID:e.2827.1691
SEQUENCE:3
DTSTAMP:20260425T003251Z
URL:https://member.jacksontn.com/events/details/business-after-hours-may-01-05-17-2001-1691
END:VEVENT

END:VCALENDAR
