BEGIN:VCALENDAR
VERSION:2.0
PRODID:-//ChamberMaster//Event Calendar 2.0//EN
METHOD:PUBLISH
X-PUBLISHED-TTL:P3D
REFRESH-INTERVAL:P3D
CALSCALE:GREGORIAN
BEGIN:VEVENT
DTSTART:20010823T220000Z
DTEND:20010824T000000Z
X-MICROSOFT-CDO-ALLDAYEVENT:FALSE
SUMMARY:Business After Hours - August 01
DESCRIPTION:
X-ALT-DESC;FMTTYPE=text/html:
LOCATION:Hudson Warehouses 44 Warehouse Courtyard
UID:e.2827.1695
SEQUENCE:3
DTSTAMP:20260424T192003Z
URL:https://member.jacksontn.com/events/details/business-after-hours-august-01-08-23-2001-1695
END:VEVENT

END:VCALENDAR
