BEGIN:VCALENDAR
VERSION:2.0
PRODID:-//ChamberMaster//Event Calendar 2.0//EN
METHOD:PUBLISH
X-PUBLISHED-TTL:P3D
REFRESH-INTERVAL:P3D
CALSCALE:GREGORIAN
BEGIN:VEVENT
DTSTART:20171212T230000Z
DTEND:20171213T010000Z
X-MICROSOFT-CDO-ALLDAYEVENT:FALSE
SUMMARY:Business After Hours
DESCRIPTION:Business After Hours comes early with your chance to win any of these prizes from WNBJ Jackson TV\, LLC:\n \n\n - Advertising package worth $6\,000\n\n - Tickets to see the Tennessee Titans vs. the Jacksonville Jaguars on New Year's Eve.\n\n\n\nMake contacts - Network - Enjoy hors d'oeuvres - free to attend - No advance registration
X-ALT-DESC;FMTTYPE=text/html:<span style="font-size:14px\;"><span style="font-family:arial\;">Business After Hours comes early with your chance to win any of these prizes from WNBJ&nbsp\;Jackson TV\, LLC:</span></span>\n<p style="margin: 0px\; text-align: center\; font-stretch: normal\; font-size: 20px\; line-height: normal\; font-family: &quot\;ITC Avant Garde Gothic&quot\;\; color: rgb(0\, 63\, 105)\;">&nbsp\;</p>\n\n<p style="margin: 0px\; font-stretch: normal\; font-size: 12px\; line-height: normal\; font-family: &quot\;Minion Pro&quot\;\;"><strong><span style="font-size:14px\;"><span style="font-family:arial\;">&nbsp\;- Advertising package worth $6\,000</span></span></strong></p>\n\n<p style="margin: 0px\; font-stretch: normal\; font-size: 12px\; line-height: normal\; font-family: &quot\;Minion Pro&quot\;\;"><strong><span style="font-size:14px\;"><span style="font-family:arial\;">&nbsp\;- Tickets to see the Tennessee Titans vs. the Jacksonville Jaguars on New Year&rsquo\;s Eve.</span></span></strong><br />\n<br />\n<span style="font-size:14px\;"><span style="color:#000000\;"><span style="font-family:arial\;">Make contacts - Network - Enjoy hors d&#39\;oeuvres&nbsp\;- free to attend - No advance registration</span></span></span></p>\n\n<div>&nbsp\;</div>\n
LOCATION:The Blacksmith 216 N. Shannon St. Jackson\, TN 38301
UID:e.2827.5652
SEQUENCE:3
DTSTAMP:20260423T211532Z
URL:https://member.jacksontn.com/events/details/business-after-hours-5652
END:VEVENT

END:VCALENDAR
