BEGIN:VCALENDAR
VERSION:2.0
PRODID:-//ChamberMaster//Event Calendar 2.0//EN
METHOD:PUBLISH
X-PUBLISHED-TTL:P3D
REFRESH-INTERVAL:P3D
CALSCALE:GREGORIAN
BEGIN:VEVENT
DTSTART:20050901T220000Z
DTEND:20050902T000000Z
X-MICROSOFT-CDO-ALLDAYEVENT:FALSE
SUMMARY:Business After Hours
DESCRIPTION:
X-ALT-DESC;FMTTYPE=text/html:
LOCATION:Downtown Block Party Liberty Street\, between College & Lafayette Jackson\, TN 38301
UID:e.2827.1169
SEQUENCE:3
DTSTAMP:20260421T172126Z
URL:https://member.jacksontn.com/events/details/business-after-hours-09-01-2005-1169
END:VEVENT

END:VCALENDAR
