BEGIN:VCALENDAR
VERSION:2.0
PRODID:-//ChamberMaster//Event Calendar 2.0//EN
METHOD:PUBLISH
X-PUBLISHED-TTL:P3D
REFRESH-INTERVAL:P3D
CALSCALE:GREGORIAN
BEGIN:VEVENT
DTSTART:20050825T220000Z
DTEND:20050826T000000Z
X-MICROSOFT-CDO-ALLDAYEVENT:FALSE
SUMMARY:Business After Hours
DESCRIPTION:
X-ALT-DESC;FMTTYPE=text/html:
LOCATION:Bowling & Skating Family Fun Center 59 Bowling Dr. Jackson\, TN 38305
UID:e.2827.1167
SEQUENCE:3
DTSTAMP:20260421T182200Z
URL:https://member.jacksontn.com/events/details/business-after-hours-08-25-2005-1167
END:VEVENT

END:VCALENDAR
