BEGIN:VCALENDAR
VERSION:2.0
PRODID:-//ChamberMaster//Event Calendar 2.0//EN
METHOD:PUBLISH
X-PUBLISHED-TTL:P3D
REFRESH-INTERVAL:P3D
CALSCALE:GREGORIAN
BEGIN:VEVENT
DTSTART:20050331T230000Z
DTEND:20050401T010000Z
X-MICROSOFT-CDO-ALLDAYEVENT:FALSE
SUMMARY:Business After Hours
DESCRIPTION:
X-ALT-DESC;FMTTYPE=text/html:
LOCATION:Business Network International Premier Place Catering on N. Highland Jackson\, TN 38305
UID:e.2827.987
SEQUENCE:3
DTSTAMP:20260421T230908Z
URL:https://member.jacksontn.com/events/details/business-after-hours-03-31-2005-987
END:VEVENT

END:VCALENDAR
