BEGIN:VCALENDAR
VERSION:2.0
PRODID:-//ChamberMaster//Event Calendar 2.0//EN
METHOD:PUBLISH
X-PUBLISHED-TTL:P3D
REFRESH-INTERVAL:P3D
CALSCALE:GREGORIAN
BEGIN:VEVENT
DTSTART:20190110T134500Z
DTEND:20190110T150000Z
X-MICROSOFT-CDO-ALLDAYEVENT:FALSE
SUMMARY:Business@212º
DESCRIPTION:Join us for the "State of Small Business in Jackson-Madison County." Updates will be given by City of Jackson Mayor Jerry Gist\, Madison County Deputy Mayor Tony White\, and West Tennessee Business Resource Director Joel Newman.
X-ALT-DESC;FMTTYPE=text/html:Join us for the &quot\;State of Small Business in Jackson-Madison County.&quot\; Updates will be given by City of Jackson Mayor Jerry Gist\, Madison County Deputy Mayor Tony White\, and West Tennessee Business Resource Director Joel Newman.
LOCATION:Jackson Chamber 197 Auditorium St.
UID:e.2827.6740
SEQUENCE:3
DTSTAMP:20260422T234717Z
URL:https://member.jacksontn.com/events/details/business-212&#186;-6740
END:VEVENT

END:VCALENDAR
