BEGIN:VCALENDAR
VERSION:2.0
PRODID:-//ChamberMaster//Event Calendar 2.0//EN
METHOD:PUBLISH
X-PUBLISHED-TTL:P3D
REFRESH-INTERVAL:P3D
CALSCALE:GREGORIAN
BEGIN:VEVENT
DTSTART:20180308T134500Z
DTEND:20180308T150000Z
X-MICROSOFT-CDO-ALLDAYEVENT:FALSE
SUMMARY:Business@212º
DESCRIPTION:Event is CANCELLED. We will see you next month!\n\n\n\nCyber Security: "Who Knows Your Business and Do You Want Them To?" with Mark Hawk\, Executive Director at LegalShield Business Solutions\n\n\n\nSponsored by BancorpSouth\, The Baker's Rack and Dodge's Stores.
X-ALT-DESC;FMTTYPE=text/html:<p>Event is <span style="color:#FF0000\;"><strong>CANCELLED</strong></span>. We will see you next month!</p>\n\n<p><br />\nCyber Security: &quot\;Who Knows Your Business and Do You Want Them To?&quot\; with Mark Hawk\, Executive Director at LegalShield Business Solutions<br />\n<br />\nSponsored by&nbsp\;BancorpSouth\, The Baker&#39\;s Rack and Dodge&#39\;s Stores.</p>\n
LOCATION:Jackson Chamber 197 Auditorium St.
UID:e.2827.5668
SEQUENCE:3
DTSTAMP:20260423T173706Z
URL:https://member.jacksontn.com/events/details/business-212&#186;-5668
END:VEVENT

END:VCALENDAR
