BEGIN:VCALENDAR
VERSION:2.0
PRODID:-//ChamberMaster//Event Calendar 2.0//EN
METHOD:PUBLISH
X-PUBLISHED-TTL:P3D
REFRESH-INTERVAL:P3D
CALSCALE:GREGORIAN
BEGIN:VEVENT
DTSTART:20180208T134500Z
DTEND:20180208T150000Z
X-MICROSOFT-CDO-ALLDAYEVENT:FALSE
SUMMARY:Business@212º
DESCRIPTION:Join Lori Nunnery\, executive director of Visit Jackson for "What is in Your Register?"
X-ALT-DESC;FMTTYPE=text/html:Join Lori Nunnery\, executive director of Visit Jackson for &quot\;What is in Your Register?&quot\;
LOCATION:Jackson Chamber 197 Auditorium St.
UID:e.2827.5663
SEQUENCE:3
DTSTAMP:20260423T185159Z
URL:https://member.jacksontn.com/events/details/business-212&#186;-5663
END:VEVENT

END:VCALENDAR
