BEGIN:VCALENDAR
VERSION:2.0
PRODID:-//ChamberMaster//Event Calendar 2.0//EN
METHOD:PUBLISH
X-PUBLISHED-TTL:P3D
REFRESH-INTERVAL:P3D
CALSCALE:GREGORIAN
BEGIN:VEVENT
DTSTART:20180111T134500Z
DTEND:20180111T150000Z
X-MICROSOFT-CDO-ALLDAYEVENT:FALSE
SUMMARY:Business@212º
DESCRIPTION:Join us for the State of Small Business in Jackson-Madison County. Updates will be given by City of Jackson Mayor Jerry Gist\, Madison County Mayor Jimmy Harris and Jackson Chamber President/CEO Kyle Spurgeon.
X-ALT-DESC;FMTTYPE=text/html:Join us for the State of Small Business in Jackson-Madison County. Updates will be given by City of Jackson Mayor Jerry Gist\, Madison County Mayor Jimmy Harris and Jackson Chamber President/CEO Kyle Spurgeon.
LOCATION:Jackson Chamber 197 Auditorium St.
UID:e.2827.5657
SEQUENCE:3
DTSTAMP:20260423T211506Z
URL:https://member.jacksontn.com/events/details/business-212&#186;-5657
END:VEVENT

END:VCALENDAR
