BEGIN:VCALENDAR
VERSION:2.0
PRODID:-//ChamberMaster//Event Calendar 2.0//EN
METHOD:PUBLISH
X-PUBLISHED-TTL:P3D
REFRESH-INTERVAL:P3D
CALSCALE:GREGORIAN
BEGIN:VEVENT
DTSTART;VALUE=DATE:20170914
DTEND;VALUE=DATE:20170915
TRANSP:TRANSPARENT
X-MICROSOFT-CDO-ALLDAYEVENT:TRUE
SUMMARY:Business@212º
DESCRIPTION:John Redden with Stability Growth Solutions\, LLC speaks on "Dialogix: Opposing Views in the Workplace."
X-ALT-DESC;FMTTYPE=text/html:John Redden with Stability Growth Solutions\, LLC speaks on "Dialogix: Opposing Views in the Workplace."
LOCATION:Jackson Chamber 197 Auditorium St. Jackson\, TN 38301
UID:e.2827.3436
SEQUENCE:3
DTSTAMP:20260424T010108Z
URL:https://member.jacksontn.com/events/details/business-212&#186;-3436
END:VEVENT

END:VCALENDAR
