BEGIN:VCALENDAR
VERSION:2.0
PRODID:-//ChamberMaster//Event Calendar 2.0//EN
METHOD:PUBLISH
X-PUBLISHED-TTL:P3D
REFRESH-INTERVAL:P3D
CALSCALE:GREGORIAN
BEGIN:VEVENT
DTSTART:20170810T124500Z
DTEND:20170810T140000Z
X-MICROSOFT-CDO-ALLDAYEVENT:FALSE
SUMMARY:Business@212º
DESCRIPTION:This event has been cancelled due to low registration.\n\n\n\nJohn Redden with Stability Growth Solutions\, LLC speaks on "Dialogix: Opposing Views in the Workplace."
X-ALT-DESC;FMTTYPE=text/html:<span style="color:#FF0000\;">This event has been cancelled due to low registration.</span><br />\n<br />\nJohn Redden with Stability Growth Solutions\, LLC speaks on &quot\;Dialogix: Opposing Views in the Workplace.&quot\;
LOCATION:197 Auditorium St. Jackson\, TN 38301
UID:e.2827.3434
SEQUENCE:3
DTSTAMP:20260424T155401Z
URL:https://member.jacksontn.com/events/details/business-212&#186;-3434
END:VEVENT

END:VCALENDAR
