BEGIN:VCALENDAR
VERSION:2.0
PRODID:-//ChamberMaster//Event Calendar 2.0//EN
METHOD:PUBLISH
X-PUBLISHED-TTL:P3D
REFRESH-INTERVAL:P3D
CALSCALE:GREGORIAN
BEGIN:VEVENT
DTSTART:20170209T134500Z
DTEND:20170209T150000Z
X-MICROSOFT-CDO-ALLDAYEVENT:FALSE
SUMMARY:Business @ 212 - February
DESCRIPTION:
X-ALT-DESC;FMTTYPE=text/html:
LOCATION:Jackson Chamber 197 Auditorium St. Jackson\, TN 38301
UID:e.2827.1718
SEQUENCE:3
DTSTAMP:20260424T095657Z
URL:https://member.jacksontn.com/events/details/business-212-february-02-09-2017-1718
END:VEVENT

END:VCALENDAR
